BEGIN:VCALENDAR
VERSION:2.0
PRODID:-//Access Bank Fifth Chukker School - ECPv6.15.20//NONSGML v1.0//EN
CALSCALE:GREGORIAN
METHOD:PUBLISH
X-ORIGINAL-URL:https://abfcschool.com
X-WR-CALDESC:Events for Access Bank Fifth Chukker School
REFRESH-INTERVAL;VALUE=DURATION:PT1H
X-Robots-Tag:noindex
X-PUBLISHED-TTL:PT1H
BEGIN:VTIMEZONE
TZID:UTC
BEGIN:STANDARD
TZOFFSETFROM:+0000
TZOFFSETTO:+0000
TZNAME:UTC
DTSTART:20220101T000000
END:STANDARD
END:VTIMEZONE
BEGIN:VEVENT
DTSTART;VALUE=DATE:20231002
DTEND;VALUE=DATE:20231003
DTSTAMP:20260421T112922
CREATED:20230705T105954Z
LAST-MODIFIED:20230705T105954Z
UID:6393-1696204800-1696291199@abfcschool.com
SUMMARY:Cultural Day
DESCRIPTION:
URL:https://abfcschool.com/event/cultural-day/
LOCATION:FCAB School Hall\, 1810 Campus Way NE Bothell\, Washington\, United States
END:VEVENT
BEGIN:VEVENT
DTSTART;VALUE=DATE:20231001
DTEND;VALUE=DATE:20231002
DTSTAMP:20260421T112922
CREATED:20180816T114427Z
LAST-MODIFIED:20230705T105817Z
UID:5976-1696118400-1696204799@abfcschool.com
SUMMARY:Independence Day
DESCRIPTION:Far far away\, behind the word mountains\, far from the countries Vokalia and Consonantia\, there live the blind texts. Separated they live in Bookmarksgrove right at the coast of the Semantics\, a large language ocean. A small river named Duden flows by their place and supplies it with the necessary regelialia. It is a paradisematic country\, in which roasted parts of sentences fly into your mouth. Even the all-powerful Pointing has no control about the blind texts it is an almost unorthographic life One day however a small line of blind text by the name
URL:https://abfcschool.com/event/horse-riding/
LOCATION:FCAB School Hall\, 1810 Campus Way NE Bothell\, Washington\, United States
ORGANIZER;CN="FCAB School's Social Club":MAILTO:clubs@fcabschool.com
END:VEVENT
BEGIN:VEVENT
DTSTART;VALUE=DATE:20230902
DTEND;VALUE=DATE:20230903
DTSTAMP:20260421T112922
CREATED:20180816T115159Z
LAST-MODIFIED:20230705T105617Z
UID:5982-1693612800-1693699199@abfcschool.com
SUMMARY:Resumption Date
DESCRIPTION:Far far away\, behind the word mountains\, far from the countries Vokalia and Consonantia\, there live the blind texts. Separated they live in Bookmarksgrove right at the coast of the Semantics\, a large language ocean. A small river named Duden flows by their place and supplies it with the necessary regelialia. It is a paradisematic country\, in which roasted parts of sentences fly into your mouth. Even the all-powerful Pointing has no control about the blind texts it is an almost unorthographic life One day however a small line of blind text by the name
URL:https://abfcschool.com/event/resumption-date/
LOCATION:FCAB School Hall\, 1810 Campus Way NE Bothell\, Washington\, United States
ATTACH;FMTTYPE=image/jpeg:https://abfcschool.com/wp-content/uploads/2023/07/WhatsApp-Image-2023-06-14-at-17.20.12-5.jpeg
ORGANIZER;CN="FCAB School's Social Club":MAILTO:clubs@fcabschool.com
END:VEVENT
BEGIN:VEVENT
DTSTART;VALUE=DATE:20230901
DTEND;VALUE=DATE:20230902
DTSTAMP:20260421T112922
CREATED:20180816T115247Z
LAST-MODIFIED:20230705T105433Z
UID:5984-1693526400-1693612799@abfcschool.com
SUMMARY:PTA meeting
DESCRIPTION:Far far away\, behind the word mountains\, far from the countries Vokalia and Consonantia\, there live the blind texts. Separated they live in Bookmarksgrove right at the coast of the Semantics\, a large language ocean. A small river named Duden flows by their place and supplies it with the necessary regelialia. It is a paradisematic country\, in which roasted parts of sentences fly into your mouth. Even the all-powerful Pointing has no control about the blind texts it is an almost unorthographic life One day however a small line of blind text by the name
URL:https://abfcschool.com/event/pta-meeting/
LOCATION:FCAB School Hall\, 1810 Campus Way NE Bothell\, Washington\, United States
ATTACH;FMTTYPE=image/png:https://abfcschool.com/wp-content/uploads/2018/08/pta-meeting.png
ORGANIZER;CN="FCAB School's Social Club":MAILTO:clubs@fcabschool.com
END:VEVENT
BEGIN:VEVENT
DTSTART;VALUE=DATE:20230803
DTEND;VALUE=DATE:20230804
DTSTAMP:20260421T112922
CREATED:20180816T115533Z
LAST-MODIFIED:20230705T105156Z
UID:5986-1691020800-1691107199@abfcschool.com
SUMMARY:Annual Speech and Prize Giving Day
DESCRIPTION:Far far away\, behind the word mountains\, far from the countries Vokalia and Consonantia\, there live the blind texts. Separated they live in Bookmarksgrove right at the coast of the Semantics\, a large language ocean. A small river named Duden flows by their place and supplies it with the necessary regelialia. It is a paradisematic country\, in which roasted parts of sentences fly into your mouth. Even the all-powerful Pointing has no control about the blind texts it is an almost unorthographic life One day however a small line of blind text by the name
URL:https://abfcschool.com/event/volleyball/
LOCATION:FCAB School Hall\, 1810 Campus Way NE Bothell\, Washington\, United States
ORGANIZER;CN="FCAB School's Social Club":MAILTO:clubs@fcabschool.com
END:VEVENT
BEGIN:VEVENT
DTSTART;VALUE=DATE:20230610
DTEND;VALUE=DATE:20230611
DTSTAMP:20260421T112922
CREATED:20180816T115715Z
LAST-MODIFIED:20230705T105027Z
UID:5989-1686355200-1686441599@abfcschool.com
SUMMARY:Charity Shield meet and greet
DESCRIPTION:Far far away\, behind the word mountains\, far from the countries Vokalia and Consonantia\, there live the blind texts. Separated they live in Bookmarksgrove right at the coast of the Semantics\, a large language ocean. A small river named Duden flows by their place and supplies it with the necessary regelialia. It is a paradisematic country\, in which roasted parts of sentences fly into your mouth. Even the all-powerful Pointing has no control about the blind texts it is an almost unorthographic life One day however a small line of blind text by the name
URL:https://abfcschool.com/event/basketball/
LOCATION:FCAB School Hall\, 1810 Campus Way NE Bothell\, Washington\, United States
ORGANIZER;CN="FCAB School's Social Club":MAILTO:clubs@fcabschool.com
END:VEVENT
BEGIN:VEVENT
DTSTART;VALUE=DATE:20230527
DTEND;VALUE=DATE:20230528
DTSTAMP:20260421T112922
CREATED:20180816T120220Z
LAST-MODIFIED:20230705T104807Z
UID:5993-1685145600-1685231999@abfcschool.com
SUMMARY:Children’s Day
DESCRIPTION:Far far away\, behind the word mountains\, far from the countries Vokalia and Consonantia\, there live the blind texts. Separated they live in Bookmarksgrove right at the coast of the Semantics\, a large language ocean. A small river named Duden flows by their place and supplies it with the necessary regelialia. It is a paradisematic country\, in which roasted parts of sentences fly into your mouth. Even the all-powerful Pointing has no control about the blind texts it is an almost unorthographic life One day however a small line of blind text by the name
URL:https://abfcschool.com/event/swimming/
LOCATION:FCAB School Hall\, 1810 Campus Way NE Bothell\, Washington\, United States
ORGANIZER;CN="FCAB School's Social Club":MAILTO:clubs@fcabschool.com
END:VEVENT
END:VCALENDAR